BEGIN:VCALENDAR
VERSION:2.0
PRODID:-//CEA San Francisco - ECPv4.9.10//NONSGML v1.0//EN
CALSCALE:GREGORIAN
METHOD:PUBLISH
X-WR-CALNAME:CEA San Francisco
X-ORIGINAL-URL:https://ceasanfrancisco.com
X-WR-CALDESC:Eventos para CEA San Francisco
BEGIN:VTIMEZONE
TZID:Europe/Helsinki
BEGIN:DAYLIGHT
TZOFFSETFROM:+0200
TZOFFSETTO:+0300
TZNAME:EEST
DTSTART:20190331T010000
END:DAYLIGHT
BEGIN:STANDARD
TZOFFSETFROM:+0300
TZOFFSETTO:+0200
TZNAME:EET
DTSTART:20191027T010000
END:STANDARD
END:VTIMEZONE
BEGIN:VEVENT
DTSTART;TZID=Europe/Helsinki:20191212T190000
DTEND;TZID=Europe/Helsinki:20191212T220000
DTSTAMP:20260423T163110
CREATED:20191205T153914Z
LAST-MODIFIED:20191205T153915Z
UID:6380-1576177200-1576188000@ceasanfrancisco.com
SUMMARY:Club de karaoke. Aula 3 a las 19:00
DESCRIPTION:
URL:https://ceasanfrancisco.com/evento/club-de-karaoke-aula-3-a-las-1900/
END:VEVENT
END:VCALENDAR