BEGIN:VCALENDAR
VERSION:2.0
PRODID:-//CEA San Francisco - ECPv4.9.10//NONSGML v1.0//EN
CALSCALE:GREGORIAN
METHOD:PUBLISH
X-WR-CALNAME:CEA San Francisco
X-ORIGINAL-URL:https://ceasanfrancisco.com
X-WR-CALDESC:Eventos para CEA San Francisco
BEGIN:VTIMEZONE
TZID:Europe/Helsinki
BEGIN:DAYLIGHT
TZOFFSETFROM:+0200
TZOFFSETTO:+0300
TZNAME:EEST
DTSTART:20200329T010000
END:DAYLIGHT
BEGIN:STANDARD
TZOFFSETFROM:+0300
TZOFFSETTO:+0200
TZNAME:EET
DTSTART:20201025T010000
END:STANDARD
END:VTIMEZONE
BEGIN:VEVENT
DTSTART;TZID=Europe/Helsinki:20200120T080000
DTEND;TZID=Europe/Helsinki:20200203T170000
DTSTAMP:20260423T145446
CREATED:20200110T085022Z
LAST-MODIFIED:20200110T085022Z
UID:6777-1579507200-1580749200@ceasanfrancisco.com
SUMMARY:Nuevo periodo de matrícula desde el 20 de enero\, inicio del curso lunes 3 de febrero
DESCRIPTION:El próximo 20 de enero se abre el nuevo periodo de matrícula para el curso 2019 – 2020. Las personas interesadas pueden pasar por el centro de 16:00 a 21:00 horas\, de lunes a viernes. Las clases comienzan el lunes 3 de febrero. \n
URL:https://ceasanfrancisco.com/evento/nuevo-periodo-de-matricula-desde-el-20-de-enero-inicio-del-curso-lunes-3-de-febrero/
ATTACH;FMTTYPE=image/jpeg:https://ceasanfrancisco.com/wp-content/uploads/2020/01/10-1-Acceso-a-la-Universidad-1.jpg
END:VEVENT
BEGIN:VEVENT
DTSTART;TZID=Europe/Helsinki:20200121T194500
DTEND;TZID=Europe/Helsinki:20200121T204500
DTSTAMP:20260423T145446
CREATED:20191203T141326Z
LAST-MODIFIED:20191203T151505Z
UID:6370-1579635900-1579639500@ceasanfrancisco.com
SUMMARY:Sesión informativa para alumnos de Acceso a la universidad
DESCRIPTION:La Universidad de La Rioja\, a través de su Oficina del Estudiante\, suele poner cada año en marcha un programa de sesiones informativas para dar a conocer su oferta de estudios de Grado y los sistemas de acceso y admisión a ellos\, así como otras cuestiones de interés. \nEste curso académico\, por primera vez\, dichas sesiones informativas llegarán a los centros de enseñanza de personas adultas. En concreto\, en el CEPA San Francisco está prevista la realización de una de ellas el día 21 de enero de 2020 a las 19:45 horas en el aula 5. \nSi eres alumno de Acceso a la Universidad para mayores de 25 y 45 años\, ¡anímate a asistir y resuelve todas las dudas que tengas! \n
URL:https://ceasanfrancisco.com/evento/sesion-informativa-para-alumnos-de-acceso-a-la-universidad/
ATTACH;FMTTYPE=image/jpeg:https://ceasanfrancisco.com/wp-content/uploads/2019/12/unirioja.jpg
END:VEVENT
END:VCALENDAR