BEGIN:VCALENDAR
VERSION:2.0
PRODID:-//CEA San Francisco - ECPv4.9.10//NONSGML v1.0//EN
CALSCALE:GREGORIAN
METHOD:PUBLISH
X-WR-CALNAME:CEA San Francisco
X-ORIGINAL-URL:https://ceasanfrancisco.com
X-WR-CALDESC:Eventos para CEA San Francisco
BEGIN:VTIMEZONE
TZID:Europe/Helsinki
BEGIN:DAYLIGHT
TZOFFSETFROM:+0200
TZOFFSETTO:+0300
TZNAME:EEST
DTSTART:20220327T010000
END:DAYLIGHT
BEGIN:STANDARD
TZOFFSETFROM:+0300
TZOFFSETTO:+0200
TZNAME:EET
DTSTART:20221030T010000
END:STANDARD
END:VTIMEZONE
BEGIN:VEVENT
DTSTART;TZID=Europe/Helsinki:20220627T190000
DTEND;TZID=Europe/Helsinki:20220627T200000
DTSTAMP:20260422T092943
CREATED:20220606T082302Z
LAST-MODIFIED:20220607T081153Z
UID:8059-1656356400-1656360000@ceasanfrancisco.com
SUMMARY:Comunicación de notas
DESCRIPTION:
URL:https://ceasanfrancisco.com/evento/comunicacion-de-notas-2022-06-27/
END:VEVENT
END:VCALENDAR