BEGIN:VCALENDAR
VERSION:2.0
PRODID:-//CEA San Francisco - ECPv4.9.10//NONSGML v1.0//EN
CALSCALE:GREGORIAN
METHOD:PUBLISH
X-WR-CALNAME:CEA San Francisco
X-ORIGINAL-URL:https://ceasanfrancisco.com
X-WR-CALDESC:Eventos para CEA San Francisco
BEGIN:VTIMEZONE
TZID:Europe/Helsinki
BEGIN:DAYLIGHT
TZOFFSETFROM:+0200
TZOFFSETTO:+0300
TZNAME:EEST
DTSTART:20220327T010000
END:DAYLIGHT
BEGIN:STANDARD
TZOFFSETFROM:+0300
TZOFFSETTO:+0200
TZNAME:EET
DTSTART:20221030T010000
END:STANDARD
END:VTIMEZONE
BEGIN:VEVENT
DTSTART;TZID=Europe/Helsinki:20221027T173000
DTEND;TZID=Europe/Helsinki:20221027T183000
DTSTAMP:20260422T154459
CREATED:20221017T091347Z
LAST-MODIFIED:20221017T104217Z
UID:8225-1666891800-1666895400@ceasanfrancisco.com
SUMMARY:Club de cine – The Queen
DESCRIPTION:[vc_row][vc_column][vc_single_image image=»8215″ img_size=»full» alignment=»center» onclick=»custom_link» link=»https://ceasanfrancisco.com/club-de-cine-the-queen/»][/vc_column][/vc_row] \n
URL:https://ceasanfrancisco.com/evento/club-de-cine-the-queen/
CATEGORIES:Club de cine
ATTACH;FMTTYPE=image/jpeg:https://ceasanfrancisco.com/wp-content/uploads/2022/10/la-reina-banner.jpg
END:VEVENT
END:VCALENDAR