BEGIN:VCALENDAR
VERSION:2.0
PRODID:-//CEA San Francisco - ECPv4.9.10//NONSGML v1.0//EN
CALSCALE:GREGORIAN
METHOD:PUBLISH
X-WR-CALNAME:CEA San Francisco
X-ORIGINAL-URL:https://ceasanfrancisco.com
X-WR-CALDESC:Eventos para CEA San Francisco
BEGIN:VTIMEZONE
TZID:Europe/Helsinki
BEGIN:DAYLIGHT
TZOFFSETFROM:+0200
TZOFFSETTO:+0300
TZNAME:EEST
DTSTART:20220327T010000
END:DAYLIGHT
BEGIN:STANDARD
TZOFFSETFROM:+0300
TZOFFSETTO:+0200
TZNAME:EET
DTSTART:20221030T010000
END:STANDARD
END:VTIMEZONE
BEGIN:VEVENT
DTSTART;TZID=Europe/Helsinki:20221122T190000
DTEND;TZID=Europe/Helsinki:20221122T200000
DTSTAMP:20260422T173309
CREATED:20221109T123038Z
LAST-MODIFIED:20221109T123038Z
UID:8303-1669143600-1669147200@ceasanfrancisco.com
SUMMARY:Charla-taller sobre violencia de género digital
DESCRIPTION:[vc_row][vc_column][vc_single_image image=»8299″ img_size=»full» onclick=»custom_link» link=»https://ceasanfrancisco.com/charla-taller-sobre-violencia-de-genero-digital/»][/vc_column][/vc_row] \n
URL:https://ceasanfrancisco.com/evento/charla-taller-sobre-violencia-de-genero-digital/
CATEGORIES:Talleres
END:VEVENT
END:VCALENDAR