BEGIN:VCALENDAR
VERSION:2.0
PRODID:-//CEA San Francisco - ECPv4.9.10//NONSGML v1.0//EN
CALSCALE:GREGORIAN
METHOD:PUBLISH
X-WR-CALNAME:CEA San Francisco
X-ORIGINAL-URL:https://ceasanfrancisco.com
X-WR-CALDESC:Eventos para CEA San Francisco
BEGIN:VTIMEZONE
TZID:Europe/Helsinki
BEGIN:DAYLIGHT
TZOFFSETFROM:+0200
TZOFFSETTO:+0300
TZNAME:EEST
DTSTART:20230326T010000
END:DAYLIGHT
BEGIN:STANDARD
TZOFFSETFROM:+0300
TZOFFSETTO:+0200
TZNAME:EET
DTSTART:20231029T010000
END:STANDARD
END:VTIMEZONE
BEGIN:VEVENT
DTSTART;TZID=Europe/Helsinki:20230511T080000
DTEND;TZID=Europe/Helsinki:20230511T170000
DTSTAMP:20260423T034001
CREATED:20230426T110415Z
LAST-MODIFIED:20230426T110503Z
UID:8517-1683792000-1683824400@ceasanfrancisco.com
SUMMARY:XV Jornada Cultural
DESCRIPTION:[vc_row][vc_column][vc_column_text]XV Jornada Cultural \n\n\n CEA San Francisco\n\n\n[/vc_column_text][/vc_column][/vc_row] \n
URL:https://ceasanfrancisco.com/evento/xv-jornada-cultural/
CATEGORIES:Centro,Concurso
END:VEVENT
END:VCALENDAR