BEGIN:VCALENDAR
VERSION:2.0
PRODID:-//CEA San Francisco - ECPv4.9.10//NONSGML v1.0//EN
CALSCALE:GREGORIAN
METHOD:PUBLISH
X-WR-CALNAME:CEA San Francisco
X-ORIGINAL-URL:https://ceasanfrancisco.com
X-WR-CALDESC:Eventos para CEA San Francisco
BEGIN:VTIMEZONE
TZID:Europe/Helsinki
BEGIN:DAYLIGHT
TZOFFSETFROM:+0200
TZOFFSETTO:+0300
TZNAME:EEST
DTSTART:20230326T010000
END:DAYLIGHT
BEGIN:STANDARD
TZOFFSETFROM:+0300
TZOFFSETTO:+0200
TZNAME:EET
DTSTART:20231029T010000
END:STANDARD
END:VTIMEZONE
BEGIN:VEVENT
DTSTART;VALUE=DATE:20231024
DTEND;VALUE=DATE:20231025
DTSTAMP:20260423T120140
CREATED:20231023T143356Z
LAST-MODIFIED:20231024T061417Z
UID:8825-1698105600-1698191999@ceasanfrancisco.com
SUMMARY:Día mundial de las bibliotecas
DESCRIPTION:[vc_row][vc_column][vc_single_image image=»8841″ img_size=»full»][/vc_column][/vc_row] \n
URL:https://ceasanfrancisco.com/evento/dia-mundial-de-las-bibliotecas/
END:VEVENT
END:VCALENDAR