BEGIN:VCALENDAR
VERSION:2.0
PRODID:-//CEA San Francisco - ECPv4.9.10//NONSGML v1.0//EN
CALSCALE:GREGORIAN
METHOD:PUBLISH
X-WR-CALNAME:CEA San Francisco
X-ORIGINAL-URL:https://ceasanfrancisco.com
X-WR-CALDESC:Eventos para CEA San Francisco
BEGIN:VTIMEZONE
TZID:Europe/Helsinki
BEGIN:DAYLIGHT
TZOFFSETFROM:+0200
TZOFFSETTO:+0300
TZNAME:EEST
DTSTART:20240331T010000
END:DAYLIGHT
BEGIN:STANDARD
TZOFFSETFROM:+0300
TZOFFSETTO:+0200
TZNAME:EET
DTSTART:20241027T010000
END:STANDARD
END:VTIMEZONE
BEGIN:VEVENT
DTSTART;VALUE=DATE:20240120
DTEND;VALUE=DATE:20240121
DTSTAMP:20260423T163953
CREATED:20240119T074000Z
LAST-MODIFIED:20240119T074000Z
UID:8977-1705708800-1705795199@ceasanfrancisco.com
SUMMARY:Inicio del periodo de matriculación de la ESPA/ESPAD.
DESCRIPTION:
URL:https://ceasanfrancisco.com/evento/inicio-del-periodo-de-matriculacion-de-la-espa-espad/
CATEGORIES:Centro
END:VEVENT
END:VCALENDAR