BEGIN:VCALENDAR
VERSION:2.0
PRODID:-//CEA San Francisco - ECPv4.9.10//NONSGML v1.0//EN
CALSCALE:GREGORIAN
METHOD:PUBLISH
X-WR-CALNAME:CEA San Francisco
X-ORIGINAL-URL:https://ceasanfrancisco.com
X-WR-CALDESC:Eventos para CEA San Francisco
BEGIN:VTIMEZONE
TZID:Europe/Helsinki
BEGIN:DAYLIGHT
TZOFFSETFROM:+0200
TZOFFSETTO:+0300
TZNAME:EEST
DTSTART:20240331T010000
END:DAYLIGHT
BEGIN:STANDARD
TZOFFSETFROM:+0300
TZOFFSETTO:+0200
TZNAME:EET
DTSTART:20241027T010000
END:STANDARD
END:VTIMEZONE
BEGIN:VEVENT
DTSTART;VALUE=DATE:20241114
DTEND;VALUE=DATE:20241115
DTSTAMP:20260424T075853
CREATED:20241015T141611Z
LAST-MODIFIED:20241015T141723Z
UID:9370-1731542400-1731628799@ceasanfrancisco.com
SUMMARY:Elecciones Consejo Escolar 2024
DESCRIPTION:La votación tendrá lugar de 16:00 a 21:00 en la biblioteca del centro. \n
URL:https://ceasanfrancisco.com/evento/elecciones-consejo-escolar-2024/
CATEGORIES:Centro
END:VEVENT
END:VCALENDAR