BEGIN:VCALENDAR
VERSION:2.0
PRODID:-//CEA San Francisco - ECPv4.9.10//NONSGML v1.0//EN
CALSCALE:GREGORIAN
METHOD:PUBLISH
X-WR-CALNAME:CEA San Francisco
X-ORIGINAL-URL:https://ceasanfrancisco.com
X-WR-CALDESC:Eventos para CEA San Francisco
BEGIN:VTIMEZONE
TZID:Europe/Helsinki
BEGIN:DAYLIGHT
TZOFFSETFROM:+0200
TZOFFSETTO:+0300
TZNAME:EEST
DTSTART:20240331T010000
END:DAYLIGHT
BEGIN:STANDARD
TZOFFSETFROM:+0300
TZOFFSETTO:+0200
TZNAME:EET
DTSTART:20241027T010000
END:STANDARD
END:VTIMEZONE
BEGIN:VEVENT
DTSTART;VALUE=DATE:20241122
DTEND;VALUE=DATE:20241123
DTSTAMP:20260424T075249
CREATED:20241023T065544Z
LAST-MODIFIED:20241023T065556Z
UID:9376-1732233600-1732319999@ceasanfrancisco.com
SUMMARY:Club de Lectura - "Balzac y la joven costurera". Biblioteca a las 18:15h.
DESCRIPTION:Club de Lectura – «Balzac y la joven costurera». Biblioteca a las 18:15h. \n
URL:https://ceasanfrancisco.com/evento/club-de-lectura-balzac-y-la-joven-costurera-biblioteca-a-las-1815h/
CATEGORIES:Club de Lectura
END:VEVENT
END:VCALENDAR