BEGIN:VCALENDAR
VERSION:2.0
PRODID:-//CEA San Francisco - ECPv4.9.10//NONSGML v1.0//EN
CALSCALE:GREGORIAN
METHOD:PUBLISH
X-WR-CALNAME:CEA San Francisco
X-ORIGINAL-URL:https://ceasanfrancisco.com
X-WR-CALDESC:Eventos para CEA San Francisco
BEGIN:VTIMEZONE
TZID:Europe/Helsinki
BEGIN:DAYLIGHT
TZOFFSETFROM:+0200
TZOFFSETTO:+0300
TZNAME:EEST
DTSTART:20250330T010000
END:DAYLIGHT
BEGIN:STANDARD
TZOFFSETFROM:+0300
TZOFFSETTO:+0200
TZNAME:EET
DTSTART:20251026T010000
END:STANDARD
END:VTIMEZONE
BEGIN:VEVENT
DTSTART;VALUE=DATE:20250227
DTEND;VALUE=DATE:20250228
DTSTAMP:20260424T120915
CREATED:20241223T120958Z
LAST-MODIFIED:20241223T120958Z
UID:9470-1740614400-1740700799@ceasanfrancisco.com
SUMMARY:Fin del periodo de matriculación de la ESPA/ESPAD.
DESCRIPTION:
URL:https://ceasanfrancisco.com/evento/fin-del-periodo-de-matriculacion-de-la-espa-espad-2/
CATEGORIES:Centro,Cursos
END:VEVENT
END:VCALENDAR