BEGIN:VCALENDAR
VERSION:2.0
PRODID:-//CEA San Francisco - ECPv4.9.10//NONSGML v1.0//EN
CALSCALE:GREGORIAN
METHOD:PUBLISH
X-WR-CALNAME:CEA San Francisco
X-ORIGINAL-URL:https://ceasanfrancisco.com
X-WR-CALDESC:Eventos para CEA San Francisco
BEGIN:VTIMEZONE
TZID:Europe/Helsinki
BEGIN:DAYLIGHT
TZOFFSETFROM:+0200
TZOFFSETTO:+0300
TZNAME:EEST
DTSTART:20250330T010000
END:DAYLIGHT
BEGIN:STANDARD
TZOFFSETFROM:+0300
TZOFFSETTO:+0200
TZNAME:EET
DTSTART:20251026T010000
END:STANDARD
END:VTIMEZONE
BEGIN:VEVENT
DTSTART;VALUE=DATE:20250620
DTEND;VALUE=DATE:20250621
DTSTAMP:20260424T180730
CREATED:20250522T072155Z
LAST-MODIFIED:20250522T072311Z
UID:9581-1750377600-1750463999@ceasanfrancisco.com
SUMMARY:Fin de clases enseñanzas no regladas
DESCRIPTION:
URL:https://ceasanfrancisco.com/evento/fin-de-clases-ensenanzas-no-regladas/
END:VEVENT
BEGIN:VEVENT
DTSTART;TZID=Europe/Helsinki:20250620T170000
DTEND;TZID=Europe/Helsinki:20250620T204500
DTSTAMP:20260424T180730
CREATED:20250522T072055Z
LAST-MODIFIED:20250522T072055Z
UID:9577-1750438800-1750452300@ceasanfrancisco.com
SUMMARY:Exámenes extraordinarios
DESCRIPTION:Fechas exámenes de ESPA y ESPA a DISTANCIA. Curso 2024/25 – CEA San Francisco \n
URL:https://ceasanfrancisco.com/evento/examenes-extraordinarios-15/
END:VEVENT
END:VCALENDAR