BEGIN:VCALENDAR
VERSION:2.0
PRODID:-//CEA San Francisco - ECPv4.9.10//NONSGML v1.0//EN
CALSCALE:GREGORIAN
METHOD:PUBLISH
X-WR-CALNAME:CEA San Francisco
X-ORIGINAL-URL:https://ceasanfrancisco.com
X-WR-CALDESC:Eventos para CEA San Francisco
BEGIN:VTIMEZONE
TZID:Europe/Helsinki
BEGIN:DAYLIGHT
TZOFFSETFROM:+0200
TZOFFSETTO:+0300
TZNAME:EEST
DTSTART:20190331T010000
END:DAYLIGHT
BEGIN:STANDARD
TZOFFSETFROM:+0300
TZOFFSETTO:+0200
TZNAME:EET
DTSTART:20191027T010000
END:STANDARD
END:VTIMEZONE
BEGIN:VEVENT
DTSTART;VALUE=DATE:20191210
DTEND;VALUE=DATE:20191211
DTSTAMP:20260423T163648
CREATED:20191212T082417Z
LAST-MODIFIED:20191212T084516Z
UID:6406-1575936000-1576022399@ceasanfrancisco.com
SUMMARY:Abierto el plazo de matrícula de los cursos pertenecientes a la la Convocatoria de Formación del Profesorado de Aula Mentor.
DESCRIPTION:[vc_row][vc_column width=»1/2″][vc_column_text]Conoce toda la información en las noticias de nuestro blog \n\n\n\n[/vc_column_text][/vc_column][vc_column width=»1/2″]\n    Saber más\n        [/vc_column][/vc_row] \n
URL:https://ceasanfrancisco.com/evento/abierto-el-plazo-de-matricula-de-los-cursos-pertenecientes-a-la-la-convocatoria-de-formacion-del-profesorado-de-aula-mentor/
CATEGORIES:Cursos
ATTACH;FMTTYPE=image/jpeg:https://ceasanfrancisco.com/wp-content/uploads/2019/12/Dic001-scaled.jpg
END:VEVENT
END:VCALENDAR