BEGIN:VCALENDAR
VERSION:2.0
PRODID:-//CEA San Francisco - ECPv4.9.10//NONSGML v1.0//EN
CALSCALE:GREGORIAN
METHOD:PUBLISH
X-WR-CALNAME:CEA San Francisco
X-ORIGINAL-URL:https://ceasanfrancisco.com
X-WR-CALDESC:Eventos para CEA San Francisco
BEGIN:VTIMEZONE
TZID:Europe/Helsinki
BEGIN:DAYLIGHT
TZOFFSETFROM:+0200
TZOFFSETTO:+0300
TZNAME:EEST
DTSTART:20250330T010000
END:DAYLIGHT
BEGIN:STANDARD
TZOFFSETFROM:+0300
TZOFFSETTO:+0200
TZNAME:EET
DTSTART:20251026T010000
END:STANDARD
END:VTIMEZONE
BEGIN:VEVENT
DTSTART;TZID=Europe/Helsinki:20250530T181500
DTEND;TZID=Europe/Helsinki:20250530T181500
DTSTAMP:20260424T164713
CREATED:20250522T071712Z
LAST-MODIFIED:20250522T071712Z
UID:9570-1748628900-1748628900@ceasanfrancisco.com
SUMMARY:Baño de bosque
DESCRIPTION:Taller de baño de bosque – CEA San Francisco \n
URL:https://ceasanfrancisco.com/evento/bano-de-bosque-2/
END:VEVENT
END:VCALENDAR