BEGIN:VCALENDAR
VERSION:2.0
PRODID:-//CEA San Francisco - ECPv4.9.10//NONSGML v1.0//EN
CALSCALE:GREGORIAN
METHOD:PUBLISH
X-WR-CALNAME:CEA San Francisco
X-ORIGINAL-URL:https://ceasanfrancisco.com
X-WR-CALDESC:Eventos para CEA San Francisco
BEGIN:VTIMEZONE
TZID:Europe/Helsinki
BEGIN:DAYLIGHT
TZOFFSETFROM:+0200
TZOFFSETTO:+0300
TZNAME:EEST
DTSTART:20220327T010000
END:DAYLIGHT
BEGIN:STANDARD
TZOFFSETFROM:+0300
TZOFFSETTO:+0200
TZNAME:EET
DTSTART:20221030T010000
END:STANDARD
END:VTIMEZONE
BEGIN:VEVENT
DTSTART;VALUE=DATE:20220513
DTEND;VALUE=DATE:20220514
DTSTAMP:20260419T133414
CREATED:20220404T093033Z
LAST-MODIFIED:20220404T093033Z
UID:8015-1652400000-1652486399@ceasanfrancisco.com
SUMMARY:Club de cine – Captain Fantastic
DESCRIPTION:[vc_row][vc_column][vc_single_image image=»8008″ img_size=»full» alignment=»center» onclick=»custom_link» link=»https://ceasanfrancisco.com/club-de-cine-captain-fantastic/»][/vc_column][/vc_row] \n
URL:https://ceasanfrancisco.com/evento/club-de-cine-captain-fantastic/
CATEGORIES:Club de cine
ATTACH;FMTTYPE=image/jpeg:https://ceasanfrancisco.com/wp-content/uploads/2022/04/captain-fantastic-banner.jpg
END:VEVENT
END:VCALENDAR