BEGIN:VCALENDAR
VERSION:2.0
PRODID:-//CEA San Francisco - ECPv4.9.10//NONSGML v1.0//EN
CALSCALE:GREGORIAN
METHOD:PUBLISH
X-WR-CALNAME:CEA San Francisco
X-ORIGINAL-URL:https://ceasanfrancisco.com
X-WR-CALDESC:Eventos para CEA San Francisco
BEGIN:VTIMEZONE
TZID:Europe/Helsinki
BEGIN:DAYLIGHT
TZOFFSETFROM:+0200
TZOFFSETTO:+0300
TZNAME:EEST
DTSTART:20240331T010000
END:DAYLIGHT
BEGIN:STANDARD
TZOFFSETFROM:+0300
TZOFFSETTO:+0200
TZNAME:EET
DTSTART:20241027T010000
END:STANDARD
END:VTIMEZONE
BEGIN:VEVENT
DTSTART;TZID=Europe/Helsinki:20240418T173000
DTEND;TZID=Europe/Helsinki:20240418T193000
DTSTAMP:20260423T223613
CREATED:20240307T150738Z
LAST-MODIFIED:20240307T150738Z
UID:9016-1713461400-1713468600@ceasanfrancisco.com
SUMMARY:Club de cine – El Club de los Emperadores
DESCRIPTION:[vc_row][vc_column][vc_single_image image=»8995″ img_size=»full» alignment=»center» onclick=»custom_link» link=»https://ceasanfrancisco.com/club-de-cine-el-club-de-los-emperadores/»][/vc_column][/vc_row] \n
URL:https://ceasanfrancisco.com/evento/club-de-cine-el-club-de-los-emperadores/
CATEGORIES:Club de cine
ATTACH;FMTTYPE=image/jpeg:https://ceasanfrancisco.com/wp-content/uploads/2024/03/el-club-de-los-emperadores-banner.jpg
END:VEVENT
END:VCALENDAR