BEGIN:VCALENDAR
VERSION:2.0
PRODID:-//CEA San Francisco - ECPv4.9.10//NONSGML v1.0//EN
CALSCALE:GREGORIAN
METHOD:PUBLISH
X-WR-CALNAME:CEA San Francisco
X-ORIGINAL-URL:https://ceasanfrancisco.com
X-WR-CALDESC:Eventos para CEA San Francisco
BEGIN:VTIMEZONE
TZID:Europe/Helsinki
BEGIN:DAYLIGHT
TZOFFSETFROM:+0200
TZOFFSETTO:+0300
TZNAME:EEST
DTSTART:20210328T010000
END:DAYLIGHT
BEGIN:STANDARD
TZOFFSETFROM:+0300
TZOFFSETTO:+0200
TZNAME:EET
DTSTART:20211031T010000
END:STANDARD
END:VTIMEZONE
BEGIN:VEVENT
DTSTART;TZID=Europe/Helsinki:20210325T173000
DTEND;TZID=Europe/Helsinki:20210325T193000
DTSTAMP:20260422T090732
CREATED:20210225T154440Z
LAST-MODIFIED:20210225T154440Z
UID:7484-1616693400-1616700600@ceasanfrancisco.com
SUMMARY:Club de cine – Frankenweenie
DESCRIPTION:[vc_row][vc_column][vc_single_image image=»7460″ img_size=»full» alignment=»center» onclick=»custom_link» link=»https://ceasanfrancisco.com/club-de-cine-frankenweenie/»][/vc_column][/vc_row] \n
URL:https://ceasanfrancisco.com/evento/club-de-cine-frankenweenie/
CATEGORIES:Club de cine
ATTACH;FMTTYPE=image/jpeg:https://ceasanfrancisco.com/wp-content/uploads/2021/02/frankenweenie-banner.jpg
END:VEVENT
END:VCALENDAR