BEGIN:VCALENDAR
VERSION:2.0
PRODID:-//CEA San Francisco - ECPv4.9.10//NONSGML v1.0//EN
CALSCALE:GREGORIAN
METHOD:PUBLISH
X-WR-CALNAME:CEA San Francisco
X-ORIGINAL-URL:https://ceasanfrancisco.com
X-WR-CALDESC:Eventos para CEA San Francisco
BEGIN:VTIMEZONE
TZID:Europe/Helsinki
BEGIN:DAYLIGHT
TZOFFSETFROM:+0200
TZOFFSETTO:+0300
TZNAME:EEST
DTSTART:20230326T010000
END:DAYLIGHT
BEGIN:STANDARD
TZOFFSETFROM:+0300
TZOFFSETTO:+0200
TZNAME:EET
DTSTART:20231029T010000
END:STANDARD
END:VTIMEZONE
BEGIN:VEVENT
DTSTART;TZID=Europe/Helsinki:20231214T190000
DTEND;TZID=Europe/Helsinki:20231214T210000
DTSTAMP:20260423T164325
CREATED:20231122T125847Z
LAST-MODIFIED:20231122T125847Z
UID:8931-1702580400-1702587600@ceasanfrancisco.com
SUMMARY:Club de cine – Of mice and men
DESCRIPTION:[vc_row][vc_column][vc_single_image image=»8925″ img_size=»full» alignment=»center» onclick=»custom_link» link=»https://ceasanfrancisco.com/club-de-cine-of-mice-and-men/»][/vc_column][/vc_row] \n
URL:https://ceasanfrancisco.com/evento/club-de-cine-of-mice-and-men/
CATEGORIES:Club de cine
ATTACH;FMTTYPE=image/jpeg:https://ceasanfrancisco.com/wp-content/uploads/2023/11/of-mice-and-men-banner.jpg
END:VEVENT
END:VCALENDAR