BEGIN:VCALENDAR
VERSION:2.0
PRODID:-//CEA San Francisco - ECPv4.9.10//NONSGML v1.0//EN
CALSCALE:GREGORIAN
METHOD:PUBLISH
X-WR-CALNAME:CEA San Francisco
X-ORIGINAL-URL:https://ceasanfrancisco.com
X-WR-CALDESC:Eventos para CEA San Francisco
BEGIN:VTIMEZONE
TZID:Europe/Helsinki
BEGIN:DAYLIGHT
TZOFFSETFROM:+0200
TZOFFSETTO:+0300
TZNAME:EEST
DTSTART:20200329T010000
END:DAYLIGHT
BEGIN:STANDARD
TZOFFSETFROM:+0300
TZOFFSETTO:+0200
TZNAME:EET
DTSTART:20201025T010000
END:STANDARD
END:VTIMEZONE
BEGIN:VEVENT
DTSTART;TZID=Europe/Helsinki:20201022T080000
DTEND;TZID=Europe/Helsinki:20201022T080000
DTSTAMP:20260420T165915
CREATED:20201016T152849Z
LAST-MODIFIED:20201019T074625Z
UID:7266-1603353600-1603353600@ceasanfrancisco.com
SUMMARY:"CLUB DE CINE -  The Iron Lady" el día 22 de octubre.
DESCRIPTION:[vc_row][vc_column][vc_single_image image=»7259″ img_size=»full» onclick=»custom_link» link=»https://ceasanfrancisco.com/club-de-cine-the-iron-lady/»][/vc_column][/vc_row] \n
URL:https://ceasanfrancisco.com/evento/club-de-cine-the-iron-lady-el-dia-22-de-octubre/
CATEGORIES:Club de cine,Cursos
ATTACH;FMTTYPE=image/jpeg:https://ceasanfrancisco.com/wp-content/uploads/2020/10/banner.jpg
END:VEVENT
END:VCALENDAR