BEGIN:VCALENDAR
VERSION:2.0
PRODID:-//CEA San Francisco - ECPv4.9.10//NONSGML v1.0//EN
CALSCALE:GREGORIAN
METHOD:PUBLISH
X-WR-CALNAME:CEA San Francisco
X-ORIGINAL-URL:https://ceasanfrancisco.com
X-WR-CALDESC:Eventos para CEA San Francisco
BEGIN:VTIMEZONE
TZID:Europe/Helsinki
BEGIN:DAYLIGHT
TZOFFSETFROM:+0200
TZOFFSETTO:+0300
TZNAME:EEST
DTSTART:20210328T010000
END:DAYLIGHT
BEGIN:STANDARD
TZOFFSETFROM:+0300
TZOFFSETTO:+0200
TZNAME:EET
DTSTART:20211031T010000
END:STANDARD
END:VTIMEZONE
BEGIN:VEVENT
DTSTART;TZID=Europe/Helsinki:20210422T181500
DTEND;TZID=Europe/Helsinki:20210422T201500
DTSTAMP:20260420T085616
CREATED:20210331T113415Z
LAST-MODIFIED:20210331T141923Z
UID:7602-1619115300-1619122500@ceasanfrancisco.com
SUMMARY:Club de lectura - Hotel Silencio
DESCRIPTION:  \nClub de Lectura – Hotel Silencio \n\n\nDisfruta y aprende leyendo a Auður Ava Ólafsdóttir. Además puedes aumentar tu nota de Lengua con 0\,5 puntos. \n  \n\n\n CEA San Francisco\n\n\n
URL:https://ceasanfrancisco.com/evento/club-de-lectura-hotel-silencio/
CATEGORIES:Club de Lectura
ATTACH;FMTTYPE=image/jpeg:https://ceasanfrancisco.com/wp-content/uploads/2021/03/hotel-silencio-destacado.jpg
END:VEVENT
END:VCALENDAR