BEGIN:VCALENDAR
VERSION:2.0
PRODID:-//CEA San Francisco - ECPv4.9.10//NONSGML v1.0//EN
CALSCALE:GREGORIAN
METHOD:PUBLISH
X-WR-CALNAME:CEA San Francisco
X-ORIGINAL-URL:https://ceasanfrancisco.com
X-WR-CALDESC:Eventos para CEA San Francisco
BEGIN:VTIMEZONE
TZID:Europe/Helsinki
BEGIN:DAYLIGHT
TZOFFSETFROM:+0200
TZOFFSETTO:+0300
TZNAME:EEST
DTSTART:20230326T010000
END:DAYLIGHT
BEGIN:STANDARD
TZOFFSETFROM:+0300
TZOFFSETTO:+0200
TZNAME:EET
DTSTART:20231029T010000
END:STANDARD
END:VTIMEZONE
BEGIN:VEVENT
DTSTART;TZID=Europe/Helsinki:20230317T181500
DTEND;TZID=Europe/Helsinki:20230317T203000
DTSTAMP:20260423T002429
CREATED:20230227T120527Z
LAST-MODIFIED:20230227T152056Z
UID:8397-1679076900-1679085000@ceasanfrancisco.com
SUMMARY:Club de lectura - Pura pasión
DESCRIPTION:[vc_row][vc_column][vc_column_text]Club de lectura – Pura pasión. Aula 6 a las 18:15h.  \n\n\n  \n\n\n CEA San Francisco\n\n\n[/vc_column_text][/vc_column][/vc_row] \n
URL:https://ceasanfrancisco.com/evento/club-de-lectura-pura-pasion/
CATEGORIES:Club de Lectura
ATTACH;FMTTYPE=image/jpeg:https://ceasanfrancisco.com/wp-content/uploads/2023/02/Fecha-club-lectura-A4-scaled.jpg
END:VEVENT
END:VCALENDAR