BEGIN:VCALENDAR
VERSION:2.0
PRODID:-//CEA San Francisco - ECPv4.9.10//NONSGML v1.0//EN
CALSCALE:GREGORIAN
METHOD:PUBLISH
X-WR-CALNAME:CEA San Francisco
X-ORIGINAL-URL:https://ceasanfrancisco.com
X-WR-CALDESC:Eventos para CEA San Francisco
BEGIN:VTIMEZONE
TZID:Europe/Helsinki
BEGIN:DAYLIGHT
TZOFFSETFROM:+0200
TZOFFSETTO:+0300
TZNAME:EEST
DTSTART:20200329T010000
END:DAYLIGHT
BEGIN:STANDARD
TZOFFSETFROM:+0300
TZOFFSETTO:+0200
TZNAME:EET
DTSTART:20201025T010000
END:STANDARD
END:VTIMEZONE
BEGIN:VEVENT
DTSTART;VALUE=DATE:20200203
DTEND;VALUE=DATE:20200204
DTSTAMP:20260423T125523
CREATED:20191106T144544Z
LAST-MODIFIED:20191107T134556Z
UID:5329-1580688000-1580774399@ceasanfrancisco.com
SUMMARY:Comienzo de las clases de ESPA - 2º Cuatrimestre
DESCRIPTION:Comienzo de las clases de educación secundaria para adultos segundo cuatrimestre \n
URL:https://ceasanfrancisco.com/evento/comienzo-de-las-clases-de-espa-2o-cuatrimestre/
ATTACH;FMTTYPE=image/jpeg:https://ceasanfrancisco.com/wp-content/uploads/2019/11/CLASES.jpg
END:VEVENT
END:VCALENDAR