BEGIN:VCALENDAR
VERSION:2.0
PRODID:-//CEA San Francisco - ECPv4.9.10//NONSGML v1.0//EN
CALSCALE:GREGORIAN
METHOD:PUBLISH
X-WR-CALNAME:CEA San Francisco
X-ORIGINAL-URL:https://ceasanfrancisco.com
X-WR-CALDESC:Eventos para CEA San Francisco
BEGIN:VTIMEZONE
TZID:Europe/Helsinki
BEGIN:DAYLIGHT
TZOFFSETFROM:+0200
TZOFFSETTO:+0300
TZNAME:EEST
DTSTART:20190331T010000
END:DAYLIGHT
BEGIN:STANDARD
TZOFFSETFROM:+0300
TZOFFSETTO:+0200
TZNAME:EET
DTSTART:20191027T010000
END:STANDARD
END:VTIMEZONE
BEGIN:VEVENT
DTSTART;TZID=Europe/Helsinki:20191219T190000
DTEND;TZID=Europe/Helsinki:20191219T210000
DTSTAMP:20260423T163546
CREATED:20191210T084650Z
LAST-MODIFIED:20191210T154359Z
UID:6397-1576782000-1576789200@ceasanfrancisco.com
SUMMARY:Entrega del Premio del Concurso de Fotografía
DESCRIPTION:[vc_row][vc_column][vc_column_text]Entrega del premio del concurso de fotografía. Biblioteca a las 19:00 \n\n\n\n[/vc_column_text][vc_single_image image=»6390″ img_size=»large»][/vc_column][/vc_row] \n
URL:https://ceasanfrancisco.com/evento/concurso-de-fotografia/
LOCATION:Biblioteca
CATEGORIES:Concurso
END:VEVENT
END:VCALENDAR