BEGIN:VCALENDAR
VERSION:2.0
PRODID:-//CEA San Francisco - ECPv4.9.10//NONSGML v1.0//EN
CALSCALE:GREGORIAN
METHOD:PUBLISH
X-WR-CALNAME:CEA San Francisco
X-ORIGINAL-URL:https://ceasanfrancisco.com
X-WR-CALDESC:Eventos para CEA San Francisco
BEGIN:VTIMEZONE
TZID:Europe/Helsinki
BEGIN:DAYLIGHT
TZOFFSETFROM:+0200
TZOFFSETTO:+0300
TZNAME:EEST
DTSTART:20200329T010000
END:DAYLIGHT
BEGIN:STANDARD
TZOFFSETFROM:+0300
TZOFFSETTO:+0200
TZNAME:EET
DTSTART:20201025T010000
END:STANDARD
END:VTIMEZONE
BEGIN:VEVENT
DTSTART;TZID=Europe/Helsinki:20201217T080000
DTEND;TZID=Europe/Helsinki:20201217T170000
DTSTAMP:20260420T120404
CREATED:20201214T131558Z
LAST-MODIFIED:20201214T131558Z
UID:7332-1608192000-1608224400@ceasanfrancisco.com
SUMMARY:Concurso de microrrelatos: bares\, qué lugares
DESCRIPTION:Fecha límite de entrega el 17 de diciembre. Entrega del premio de 20€ será el 21 de diciembre. \n
URL:https://ceasanfrancisco.com/evento/concurso-de-microrrelatos-bares-que-lugares/
CATEGORIES:Concurso
END:VEVENT
END:VCALENDAR