BEGIN:VCALENDAR
VERSION:2.0
PRODID:-//CEA San Francisco - ECPv4.9.10//NONSGML v1.0//EN
CALSCALE:GREGORIAN
METHOD:PUBLISH
X-WR-CALNAME:CEA San Francisco
X-ORIGINAL-URL:https://ceasanfrancisco.com
X-WR-CALDESC:Eventos para CEA San Francisco
BEGIN:VTIMEZONE
TZID:Europe/Helsinki
BEGIN:DAYLIGHT
TZOFFSETFROM:+0200
TZOFFSETTO:+0300
TZNAME:EEST
DTSTART:20200329T010000
END:DAYLIGHT
BEGIN:STANDARD
TZOFFSETFROM:+0300
TZOFFSETTO:+0200
TZNAME:EET
DTSTART:20201025T010000
END:STANDARD
END:VTIMEZONE
BEGIN:VEVENT
DTSTART;TZID=Europe/Helsinki:20200622T170000
DTEND;TZID=Europe/Helsinki:20200622T210000
DTSTAMP:20260421T011704
CREATED:20191106T153604Z
LAST-MODIFIED:20191111T155519Z
UID:5371-1592845200-1592859600@ceasanfrancisco.com
SUMMARY:Exámenes extraordinarios
DESCRIPTION:17:00 – 18:15 Lengua 1º\, 2º\, 3º y 4º \n18:15 – 19:30 Inglés 1º\, 2º\, 3º y 4º \n19:30 – 20:45 Sociales 1º\, 2º\, 3º y 4º \nImportante \nLas fechas y el horario de exámenes son INAMOVIBLES. \nA los alumnos que lo precisen se les dará un justificante de asistencia. \n
URL:https://ceasanfrancisco.com/evento/examenes-extraordinarios-3/
ATTACH;FMTTYPE=image/jpeg:https://ceasanfrancisco.com/wp-content/uploads/2019/11/Examen.jpg
END:VEVENT
END:VCALENDAR