BEGIN:VCALENDAR
VERSION:2.0
PRODID:-//CEA San Francisco - ECPv4.9.10//NONSGML v1.0//EN
CALSCALE:GREGORIAN
METHOD:PUBLISH
X-WR-CALNAME:CEA San Francisco
X-ORIGINAL-URL:https://ceasanfrancisco.com
X-WR-CALDESC:Eventos para CEA San Francisco
BEGIN:VTIMEZONE
TZID:Europe/Helsinki
BEGIN:DAYLIGHT
TZOFFSETFROM:+0200
TZOFFSETTO:+0300
TZNAME:EEST
DTSTART:20210328T010000
END:DAYLIGHT
BEGIN:STANDARD
TZOFFSETFROM:+0300
TZOFFSETTO:+0200
TZNAME:EET
DTSTART:20211031T010000
END:STANDARD
END:VTIMEZONE
BEGIN:VEVENT
DTSTART;VALUE=DATE:20210120
DTEND;VALUE=DATE:20210121
DTSTAMP:20260420T103532
CREATED:20210115T111551Z
LAST-MODIFIED:20210115T124651Z
UID:7410-1611100800-1611187199@ceasanfrancisco.com
SUMMARY:Inicio de la matriculación del 2º cuatrimestre
DESCRIPTION:Saber más \n
URL:https://ceasanfrancisco.com/evento/inicio-de-la-matriculacion-del-2o-cuatrimestre/
CATEGORIES:Centro,Cursos
ATTACH;FMTTYPE=image/jpeg:https://ceasanfrancisco.com/wp-content/uploads/2021/01/Oferta-educativa-2º-cuatrimestre.jpg
END:VEVENT
END:VCALENDAR